BEGIN:VCALENDAR
PRODID:-//hacksw/handcal//NONSGML v1.0//EN
VERSION:2.0
METHOD:PUBLISH
BEGIN:VEVENT
DTSTART:20171027T010000Z
DTEND:20171027T030000Z
LOCATION:Woodland Hills Country Club
UID:1554420171027T010000Z“The Business of Bitcoin: What it is, How it Works, and Why it Matters to You and Your Clients!”
DTSTAMP:20260421T092457Z
DESCRIPTION:
SUMMARY:“The Business of Bitcoin: What it is, How it Works, and Why it Matters to You and Your Clients!” - San Fernando Valley Estate Planning Council 
PRIORITY:3
BEGIN:VALARM
TRIGGER:PT18H
ACTION:DISPLAY
DESCRIPTION:Reminder
END:VALARM
END:VEVENT
END:VCALENDAR