BEGIN:VCALENDAR
PRODID:-//hacksw/handcal//NONSGML v1.0//EN
VERSION:2.0
METHOD:PUBLISH
BEGIN:VEVENT
DTSTART:20260522T010000Z
DTEND:20260522T030000Z
LOCATION:
UID:2904620260522T010000ZTBD
DTSTAMP:20260425T151242Z
DESCRIPTION:
SUMMARY:TBD - San Fernando Valley Estate Planning Council 
PRIORITY:3
BEGIN:VALARM
TRIGGER:PT18H
ACTION:DISPLAY
DESCRIPTION:Reminder
END:VALARM
END:VEVENT
END:VCALENDAR